Workbook

Sheet Q3 2026
A1: Förmedlade premier Q3 2026 – per livbolag och månad
A3: Organisations Nummer | B3: Livbolags Namn | C3: Antal Individer | D3: Period | E3: Premie Belopp
A4: 5020146865 | B4: Alecta | C4: =Juli!C5 -> 15 | D4: 46204 | E4: =Juli!E5 -> 48523
A5: 5020146865 | B5: Alecta | C5: =Augusti!C5 -> 14 | D5: 46235 | E5: =Augusti!E5 -> 38777
A6: 5020146865 | B6: Alecta | C6: =September!C5 -> 693 | D6: 46266 | E6: =September!E5 -> 4622337
A7: 5020332259 | B7: AMF Tjänstepension AB (Fond) | C7: =Juli!C6 -> 244 | D7: 46204 | E7: =Juli!E6 -> 749850
A8: 5020332259 | B8: AMF Tjänstepension AB (Fond) | C8: =Augusti!C6 -> 246 | D8: 46235 | E8: =Augusti!E6 -> 532284
A9: 5020332259 | B9: AMF Tjänstepension AB (Fond) | C9: =September!C6 -> 4961 | D9: 46266 | E9: =September!E6 -> 37199459
A10: 5020332259 | B10: AMF Tjänstepension AB (Trad) | C10: =Juli!C7 -> 563 | D10: 46204 | E10: =Juli!E7 -> 963580
A11: 5020332259 | B11: AMF Tjänstepension AB (Trad) | C11: =Augusti!C7 -> 570 | D11: 46235 | E11: =Augusti!E7 -> 865847
A12: 5020332259 | B12: AMF Tjänstepension AB (Trad) | C12: =September!C7 -> 8254 | D12: 46266 | E12: =September!E7 -> 49543929
A13: 5164016619 | B13: Folksam LO Tjänstepension AB | C13: =Juli!C8 -> 455 | D13: 46204 | E13: =Juli!E8 -> 1147149
A14: 5164016619 | B14: Folksam LO Tjänstepension AB | C14: =Augusti!C8 -> 403 | D14: 46235 | E14: =Augusti!E8 -> 612578
A15: 5164016619 | B15: Folksam LO Tjänstepension AB | C15: =September!C8 -> 9314 | D15: 46266 | E15: =September!E8 -> 54319615
A16: 5164016643 | B16: Futur | C16: =Juli!C9 -> 105 | D16: 46204 | E16: =Juli!E9 -> 1114009
A17: 5164016643 | B17: Futur | C17: =Augusti!C9 -> 86 | D17: 46235 | E17: =Augusti!E9 -> 236684
A18: 5164016643 | B18: Futur | C18: =September!C9 -> 2117 | D18: 46266 | E18: =September!E9 -> 15543380
A19: 5164018284 | B19: Handelsbanken Liv Fondförs AB | C19: =Juli!C10 -> 273 | D19: 46204 | E19: =Juli!E10 -> 1010562
A20: 5164018284 | B20: Handelsbanken Liv Fondförs AB | C20: =Augusti!C10 -> 255 | D20: 46235 | E20: =Augusti!E10 -> 668512
A21: 5164018284 | B21: Handelsbanken Liv Fondförs AB | C21: =September!C10 -> 8148 | D21: 46266 | E21: =September!E10 -> 57335883
A22: 5164016544 | B22: KPA Tjänstepensionsförsäkring AB (Fond) | C22: =Juli!C11 -> 133 | D22: 46204 | E22: =Juli!E11 -> 425624
A23: 5164016544 | B23: KPA Tjänstepensionsförsäkring AB (Fond) | C23: =Augusti!C11 -> 141 | D23: 46235 | E23: =Augusti!E11 -> 372190
A24: 5164016544 | B24: KPA Tjänstepensionsförsäkring AB (Fond) | C24: =September!C11 -> 2564 | D24: 46266 | E24: =September!E11 -> 18331336
A25: 5164016544 | B25: KPA Tjänstepensionsförsäkring AB (Passivt val) | C25: =Juli!C12 -> 2814 | D25: 46204 | E25: =Juli!E12 -> 7328825
A26: 5164016544 | B26: KPA Tjänstepensionsförsäkring AB (Passivt val) | C26: =Augusti!C12 -> 2742 | D26: 46235 | E26: =Augusti!E12 -> 5404089
A27: 5164016544 | B27: KPA Tjänstepensionsförsäkring AB (Passivt val) | C27: =September!C12 -> 221170 | D27: 46266 | E27: =September!E12 -> 1212717408
A28: 5164016544 | B28: KPA Tjänstepensionsförsäkring AB (Trad) | C28: =Juli!C13 -> 261 | D28: 46204 | E28: =Juli!E13 -> 706424
A29: 5164016544 | B29: KPA Tjänstepensionsförsäkring AB (Trad) | C29: =Augusti!C13 -> 261 | D29: 46235 | E29: =Augusti!E13 -> 550810
A30: 5164016544 | B30: KPA Tjänstepensionsförsäkring AB (Trad) | C30: =September!C13 -> 8486 | D30: 46266 | E30: =September!E13 -> 56177941
A31: 5164018219 | B31: Länsförsäkringar Fond | C31: =Juli!C14 -> 158 | D31: 46204 | E31: =Juli!E14 -> 934744
A32: 5164018219 | B32: Länsförsäkringar Fond | C32: =Augusti!C14 -> 74 | D32: 46235 | E32: =Augusti!E14 -> 288916
A33: 5164018219 | B33: Länsförsäkringar Fond | C33: =September!C14 -> 4083 | D33: 46266 | E33: =September!E14 -> 32000751
A34: 5164018508 | B34: Nordea Fondförsäkring | C34: =Juli!C15 -> 317 | D34: 46204 | E34: =Juli!E15 -> 1747007
A35: 5164018508 | B35: Nordea Fondförsäkring | C35: =Augusti!C15 -> 245 | D35: 46235 | E35: =Augusti!E15 -> 604202
A36: 5164018508 | B36: Nordea Fondförsäkring | C36: =September!C15 -> 11318 | D36: 46266 | E36: =September!E15 -> 79344648
A37: 5164018243 | B37: SEB Pension och Försäkring (Fond) | C37: =Juli!C16 -> 179 | D37: 46204 | E37: =Juli!E16 -> 520886
A38: 5164018243 | B38: SEB Pension och Försäkring (Fond) | C38: =Augusti!C16 -> 170 | D38: 46235 | E38: =Augusti!E16 -> 400198
A39: 5164018243 | B39: SEB Pension och Försäkring (Fond) | C39: =September!C16 -> 4816 | D39: 46266 | E39: =September!E16 -> 35675790
A40: 5164060948 | B40: Skandia Liv | C40: =Juli!C17 -> 53 | D40: 46204 | E40: =Juli!E17 -> 284448
A41: 5164060948 | B41: Skandia Liv | C41: =Augusti!C17 -> 59 | D41: 46235 | E41: =Augusti!E17 -> 354181
...

Sheet fördelning per trad & fond
A1: Förmedlade premier Q3 2026 – fördelning traditionell försäkring och fondförsäkring
A3: Period | B3: 46204 | C3: 46235 | D3: 46266 | E3: Q3 2026
A4: Traditionell försäkring | B4: PremieBelopp | C4: PremieBelopp | D4: PremieBelopp | E4: Totalt Q3
A5: Alecta | B5: =Juli!E5 -> 48523 | C5: =Augusti!E5 -> 38777 | D5: =September!E5 -> 4622337 | E5: =SUM(B5:D5) -> 4709637
A6: AMF Trad | B6: =Juli!E7 -> 963580 | C6: =Augusti!E7 -> 865847 | D6: =September!E7 -> 49543929 | E6: =SUM(B6:D6) -> 51373356
A7: KPA (Passivt val) | B7: =Juli!E12 -> 7328825 | C7: =Augusti!E12 -> 5404089 | D7: =September!E12 -> 1212717408 | E7: =SUM(B7:D7) -> 1225450322
A8: KPA (Trad) | B8: =Juli!E13 -> 706424 | C8: =Augusti!E13 -> 550810 | D8: =September!E13 -> 56177941 | E8: =SUM(B8:D8) -> 57435175
A9: Skandia Trad | B9: =Juli!E17 -> 284448 | C9: =Augusti!E17 -> 354181 | D9: =September!E17 -> 9105069 | E9: =SUM(B9:D9) -> 9743698
A10: Totalt trad | B10: =SUM(B5:B9) -> 9331800 | C10: =SUM(C5:C9) -> 7213704 | D10: =SUM(D5:D9) -> 1332166684 | E10: =SUM(E5:E9) -> 1348712188
A12: Fondförsäkring | B12: PremieBelopp | C12: PremieBelopp | D12: PremieBelopp | E12: Totalt Q3
A13: AMF Fond | B13: =Juli!E6 -> 749850 | C13: =Augusti!E6 -> 532284 | D13: =September!E6 -> 37199459 | E13: =SUM(B13:D13) -> 38481593
A14: Folksam LO | B14: =Juli!E8 -> 1147149 | C14: =Augusti!E8 -> 612578 | D14: =September!E8 -> 54319615 | E14: =SUM(B14:D14) -> 56079342
A15: Futur Pension | B15: =Juli!E9 -> 1114009 | C15: =Augusti!E9 -> 236684 | D15: =September!E9 -> 15543380 | E15: =SUM(B15:D15) -> 16894073
A16: Handelsbanken Fond | B16: =Juli!E10 -> 1010562 | C16: =Augusti!E10 -> 668512 | D16: =September!E10 -> 57335883 | E16: =SUM(B16:D16) -> 59014957
A17: KPA (Fond) | B17: =Juli!E11 -> 425624 | C17: =Augusti!E11 -> 372190 | D17: =September!E11 -> 18331336 | E17: =SUM(B17:D17) -> 19129150
A18: Länsförsäkringar Fond | B18: =Juli!E14 -> 934744 | C18: =Augusti!E14 -> 288916 | D18: =September!E14 -> 32000751 | E18: =SUM(B18:D18) -> 33224411
A19: Nordea Fond | B19: =Juli!E15 -> 1747007 | C19: =Augusti!E15 -> 604202 | D19: =September!E15 -> 79344648 | E19: =SUM(B19:D19) -> 81695857
A20: SEB (Fond) | B20: =Juli!E16 -> 520886 | C20: =Augusti!E16 -> 400198 | D20: =September!E16 -> 35675790 | E20: =SUM(B20:D20) -> 36596874
A21: Svenska Lärarfonder | B21: =Juli!E19 -> 160839 | C21: =Augusti!E19 -> 131265 | D21: =September!E19 -> 7704522 | E21: =SUM(B21:D21) -> 7996626
A22: Swedbank (Fond) | B22: =Juli!E18 -> 3411931 | C22: =Augusti!E18 -> 1315456 | D22: =September!E18 -> 163487889 | E22: =SUM(B22:D22) -> 168215276
A23: Totalt fond | B23: =SUM(B13:B22) -> 11222601 | C23: =SUM(C13:C22) -> 5162285 | D23: =SUM(D13:D22) -> 500943273 | E23: =SUM(E13:E22) -> 517328159
A24: Totalt | B24: =B10+B23 -> 20554401 | C24: =C10+C23 -> 12375989 | D24: =D10+D23 -> 1833109957 | E24: =SUM(B24:D24) -> 1866040347

Sheet Juli
A1: Förmedlade premier juli 2026
A4: Organisationsnummer | B4: LivbolagsNamn | C4: Antal individer | D4: Period | E4: PremieBelopp
A5: 5020146865 | B5: Alecta | C5: 15 | D5: 46204 | E5: 48523
A6: 5020332259 | B6: AMF Tjänstepension AB (Fond) | C6: 244 | D6: 46204 | E6: 749850
A7: 5020332259 | B7: AMF Tjänstepension AB (Trad) | C7: 563 | D7: 46204 | E7: 963580
A8: 5164016619 | B8: Folksam LO Tjänstepension AB | C8: 455 | D8: 46204 | E8: 1147149
A9: 5164016643 | B9: Futur | C9: 105 | D9: 46204 | E9: 1114009
A10: 5164018284 | B10: Handelsbanken Liv Fondförs AB | C10: 273 | D10: 46204 | E10: 1010562
A11: 5164016544 | B11: KPA Tjänstepensionsförsäkring AB (Fond) | C11: 133 | D11: 46204 | E11: 425624
A12: 5164016544 | B12: KPA Tjänstepensionsförsäkring AB (Passivt val) | C12: 2814 | D12: 46204 | E12: 7328825
A13: 5164016544 | B13: KPA Tjänstepensionsförsäkring AB (Trad) | C13: 261 | D13: 46204 | E13: 706424
A14: 5164018219 | B14: Länsförsäkringar Fond | C14: 158 | D14: 46204 | E14: 934744
A15: 5164018508 | B15: Nordea Fondförsäkring | C15: 317 | D15: 46204 | E15: 1747007
A16: 5164018243 | B16: SEB Pension och Försäkring (Fond) | C16: 179 | D16: 46204 | E16: 520886
... A19: 5164018607 | B19: Svenska Lärarfonder | C19: 55 | D19: 46204 | E19: 160839
B20: Totalt | C20: =SUM(C5:C19) -> 6513 | D20: 46204 | E20: =SUM(E5:E19) -> 20554401

Sheet Augusti
A1: Förmedlade premier augusti 2026
A4: Organisationsnummer | B4: LivbolagsNamn | C4: Antal individer | D4: Period | E4: PremieBelopp
A5: 5020146865 | B5: Alecta | C5: 14 | D5: 46235 | E5: 38777
A6: 5020332259 | B6: AMF Tjänstepension AB (Fond) | C6: 246 | D6: 46235 | E6: 532284
A7: 5020332259 | B7: AMF Tjänstepension AB (Trad) | C7: 570 | D7: 46235 | E7: 865847
A8: 5164016619 | B8: Folksam LO Tjänstepension AB | C8: 403 | D8: 46235 | E8: 612578
A9: 5164016643 | B9: Futur | C9: 86 | D9: 46235 | E9: 236684
A10: 5164018284 | B10: Handelsbanken Liv Fondförs AB | C10: 255 | D10: 46235 | E10: 668512
A11: 5164016544 | B11: KPA Tjänstepensionsförsäkring AB (Fond) | C11: 141 | D11: 46235 | E11: 372190
A12: 5164016544 | B12: KPA Tjänstepensionsförsäkring AB (Passivt val) | C12: 2742 | D12: 46235 | E12: 5404089
A13: 5164016544 | B13: KPA Tjänstepensionsförsäkring AB (Trad) | C13: 261 | D13: 46235 | E13: 550810
A14: 5164018219 | B14: Länsförsäkringar Fond | C14: 74 | D14: 46235 | E14: 288916
A15: 5164018508 | B15: Nordea Fondförsäkring | C15: 245 | D15: 46235 | E15: 604202
A16: 5164018243 | B16: SEB Pension och Försäkring (Fond) | C16: 170 | D16: 46235 | E16: 400198
... A19: 5164018607 | B19: Svenska Lärarfonder | C19: 50 | D19: 46235 | E19: 131265
B20: Totalt | C20: =SUM(C5:C19) -> 6063 | D20: 46235 | E20: =SUM(E5:E19) -> 12375989

Sheet September
A1: Förmedlade premier september 2026
A4: Organisationsnummer | B4: LivbolagsNamn | C4: Antal individer | D4: Period | E4: PremieBelopp
A5: 5020146865 | B5: Alecta | C5: 693 | D5: 46266 | E5: 4622337
A6: 5020332259 | B6: AMF Tjänstepension AB (Fond) | C6: 4961 | D6: 46266 | E6: 37199459
A7: 5020332259 | B7: AMF Tjänstepension AB (Trad) | C7: 8254 | D7: 46266 | E7: 49543929
A8: 5164016619 | B8: Folksam LO Tjänstepension AB | C8: 9314 | D8: 46266 | E8: 54319615
A9: 5164016643 | B9: Futur | C9: 2117 | D9: 46266 | E9: 15543380
A10: 5164018284 | B10: Handelsbanken Liv Fondförs AB | C10: 8148 | D10: 46266 | E10: 57335883
A11: 5164016544 | B11: KPA Tjänstepensionsförsäkring AB (Fond) | C11: 2564 | D11: 46266 | E11: 18331336
A12: 5164016544 | B12: KPA Tjänstepensionsförsäkring AB (Passivt val) | C12: 221170 | D12: 46266 | E12: 1212717408
A13: 5164016544 | B13: KPA Tjänstepensionsförsäkring AB (Trad) | C13: 8486 | D13: 46266 | E13: 56177941
A14: 5164018219 | B14: Länsförsäkringar Fond | C14: 4083 | D14: 46266 | E14: 32000751
A15: 5164018508 | B15: Nordea Fondförsäkring | C15: 11318 | D15: 46266 | E15: 79344648
A16: 5164018243 | B16: SEB Pension och Försäkring (Fond) | C16: 4816 | D16: 46266 | E16: 35675790
... A19: 5164018607 | B19: Svenska Lärarfonder | C19: 1056 | D19: 46266 | E19: 7704522
B20: Totalt | C20: =SUM(C5:C19) -> 312373 | D20: 46266 | E20: =SUM(E5:E19) -> 1833109957
